BEGIN:VCALENDAR
VERSION:2.0
PRODID:-//VSA - ECPv6.15.20//NONSGML v1.0//EN
CALSCALE:GREGORIAN
METHOD:PUBLISH
X-WR-CALNAME:VSA
X-ORIGINAL-URL:https://vasoybean.com
X-WR-CALDESC:Events for VSA
REFRESH-INTERVAL;VALUE=DURATION:PT1H
X-Robots-Tag:noindex
X-PUBLISHED-TTL:PT1H
BEGIN:VTIMEZONE
TZID:UTC
BEGIN:STANDARD
TZOFFSETFROM:+0000
TZOFFSETTO:+0000
TZNAME:UTC
DTSTART:20200101T000000
END:STANDARD
END:VTIMEZONE
BEGIN:VEVENT
DTSTART;VALUE=DATE:20230803
DTEND;VALUE=DATE:20230804
DTSTAMP:20260423T062658
CREATED:20220923T062910Z
LAST-MODIFIED:20220923T062910Z
UID:4380-1691020800-1691107199@vasoybean.com
SUMMARY:AG Expo
DESCRIPTION:
URL:https://vasoybean.com/event/ag-expo/
LOCATION:Land of Promise Farm\, Virginia Beach\, VA
END:VEVENT
BEGIN:VEVENT
DTSTART;VALUE=DATE:20230309
DTEND;VALUE=DATE:20230312
DTSTAMP:20260423T062658
CREATED:20220923T063210Z
LAST-MODIFIED:20220923T063210Z
UID:4383-1678320000-1678579199@vasoybean.com
SUMMARY:Commodity Classic
DESCRIPTION:
URL:https://vasoybean.com/event/commodity-classic/
LOCATION:Orlando\, FL
END:VEVENT
BEGIN:VEVENT
DTSTART;VALUE=DATE:20230209
DTEND;VALUE=DATE:20230210
DTSTAMP:20260423T062658
CREATED:20220923T062456Z
LAST-MODIFIED:20220923T062456Z
UID:4376-1675900800-1675987199@vasoybean.com
SUMMARY:Annual Conference
DESCRIPTION:
URL:https://vasoybean.com/event/annual-conference/
LOCATION:Creamfield Farm
END:VEVENT
BEGIN:VEVENT
DTSTART;TZID=UTC:20220923T090000
DTEND;TZID=UTC:20221001T190000
DTSTAMP:20260423T062658
CREATED:20220923T062205Z
LAST-MODIFIED:20220923T062625Z
UID:4373-1663923600-1664650800@vasoybean.com
SUMMARY:Virginia State Fair
DESCRIPTION:
URL:https://vasoybean.com/event/virginia-state-fair/
LOCATION:Meadow Event Park
END:VEVENT
BEGIN:VEVENT
DTSTART;VALUE=DATE:20210805
DTEND;VALUE=DATE:20210806
DTSTAMP:20260423T062658
CREATED:20210305T194118Z
LAST-MODIFIED:20210713T191537Z
UID:2504-1628121600-1628207999@vasoybean.com
SUMMARY:Ag Expo 2021
DESCRIPTION:Join us August 5\, 2021 at Corbin Hall Farms in Waterview\, VA to learn more on “Farming: A Foundation for the Future” \nFor more info\, view the event webpage or Follow the event on Facebook!
URL:https://vasoybean.com/event/agexpo21/
LOCATION:Corbin Hall Farm\, 2403 Corbin Hall Dr.\, Water View\, VA\, 23180
END:VEVENT
END:VCALENDAR